View In:
ArcGIS JavaScript
ArcGIS Online Map Viewer
ArcGIS Earth
Service Description: Battente_Idraulico_h30_tif
Name: Battente_Idraulico_h30_tif
Description:
Single Fused Map Cache: false
Extent:
XMin: 1605737.1059
YMin: 4844487.113
XMax: 1633242.1059
YMax: 4872455.113
Spatial Reference: 102091
(3003)
LatestVCSWkid(0)
Initial Extent:
XMin: 1605737.1059
YMin: 4844487.113
XMax: 1633242.1059
YMax: 4872455.113
Spatial Reference: 102091
(3003)
LatestVCSWkid(0)
Full Extent:
XMin: 1605737.1059
YMin: 4844487.113
XMax: 1633242.1059
YMax: 4872455.113
Spatial Reference: 102091
(3003)
LatestVCSWkid(0)
Pixel Size X: 1.0
Pixel Size Y: 1.0
Band Count: 1
Pixel Type: F32
RasterFunction Infos: {"rasterFunctionInfos": [{
"name": "None",
"description": "",
"help": ""
}]}
Mensuration Capabilities: Basic
Inspection Capabilities:
Has Histograms: true
Has Colormap: false
Has Multi Dimensions : false
Rendering Rule:
Min Scale: 0
Max Scale: 0
Copyright Text:
Service Data Type: esriImageServiceDataTypeGeneric
Min Values: 9.9945068359375E-4
Max Values: 9.8745126724243
Mean Values: 1.3881322573438
Standard Deviation Values: 1.6914104431708
Object ID Field:
Fields:
None
Default Mosaic Method: Center
Allowed Mosaic Methods:
SortField:
SortValue: null
Mosaic Operator: First
Default Compression Quality: 75
Default Resampling Method: Bilinear
Max Record Count: null
Max Image Height: 4100
Max Image Width: 15000
Max Download Image Count: null
Max Mosaic Image Count: null
Allow Raster Function: true
Allow Copy: true
Allow Analysis: true
Allow Compute TiePoints: false
Supports Statistics: false
Supports Advanced Queries: false
Use StandardizedQueries: true
Raster Type Infos:
Name: Raster Dataset
Description: Supports all ArcGIS Raster Datasets
Help:
Has Raster Attribute Table: false
Edit Fields Info: null
Ownership Based AccessControl For Rasters: null
Child Resources:
Info
Histograms
Statistics
Key Properties
Legend
Raster Function Infos
Supported Operations:
Export Image
Identify
Measure
Compute Histograms
Compute Statistics Histograms
Get Samples
Compute Class Statistics
Query Boundary
Compute Pixel Location
Compute Angles
Validate
Project